BEGIN:VCALENDAR
VERSION:2.0
PRODID:-//Special Olympics New Mexico - ECPv6.15.20//NONSGML v1.0//EN
CALSCALE:GREGORIAN
METHOD:PUBLISH
X-ORIGINAL-URL:https://sonm.org
X-WR-CALDESC:Events for Special Olympics New Mexico
REFRESH-INTERVAL;VALUE=DURATION:PT1H
X-Robots-Tag:noindex
X-PUBLISHED-TTL:PT1H
BEGIN:VTIMEZONE
TZID:America/Denver
BEGIN:DAYLIGHT
TZOFFSETFROM:-0600
TZOFFSETTO:-0600
TZNAME:MDT
DTSTART:20250101T000000
END:DAYLIGHT
END:VTIMEZONE
BEGIN:VEVENT
DTSTART;VALUE=DATE:20260919
DTEND;VALUE=DATE:20260920
DTSTAMP:20260425T054523
CREATED:20260402T021406Z
LAST-MODIFIED:20260402T021420Z
UID:9866-1789776000-1789862399@sonm.org
SUMMARY:Valencia County Family Day
DESCRIPTION:Save the date for Valencia County Family Day\, which will be held on Saturday\, September 19\, 2026.
URL:https://sonm.org/events/valencia-county-family-day-2026/
CATEGORIES:Law Enforcement Torch Run
END:VEVENT
END:VCALENDAR