BEGIN:VCALENDAR
VERSION:2.0
PRODID:-//Special Olympics New Mexico - ECPv6.15.20//NONSGML v1.0//EN
CALSCALE:GREGORIAN
METHOD:PUBLISH
X-ORIGINAL-URL:https://sonm.org
X-WR-CALDESC:Events for Special Olympics New Mexico
REFRESH-INTERVAL;VALUE=DURATION:PT1H
X-Robots-Tag:noindex
X-PUBLISHED-TTL:PT1H
BEGIN:VTIMEZONE
TZID:America/Denver
BEGIN:DAYLIGHT
TZOFFSETFROM:-0600
TZOFFSETTO:-0600
TZNAME:MDT
DTSTART:20250101T000000
END:DAYLIGHT
END:VTIMEZONE
BEGIN:VEVENT
DTSTART;VALUE=DATE:20260815
DTEND;VALUE=DATE:20260816
DTSTAMP:20260425T071128
CREATED:20260402T014431Z
LAST-MODIFIED:20260402T014547Z
UID:9845-1786752000-1786838399@sonm.org
SUMMARY:Hoops for Hope Basketball Tournament
DESCRIPTION:Join us for Hoops for Hope\, a 3v3 Basketball Tournament Fundraiser on Saturday\, August 15\, benefitting Special Olympics New Mexico! This fundraiser is hosted by Bernalillo County Fire Rescue. Check out the flyer for more info!
URL:https://sonm.org/events/hoops-for-hope-2026/
LOCATION:Atrisco Heritage Academy High School\, 10800 Dennis Chavez Blvd SQ\, Albuquerque\, 87121
CATEGORIES:Law Enforcement Torch Run
ATTACH;FMTTYPE=image/jpeg:https://sonm.org/wp-content/uploads/2026/04/2026-NMLETR_Aug.-15_3V3_Basketball-Tournament-flyer.jpg
END:VEVENT
END:VCALENDAR